BEGIN:VCALENDAR
VERSION:2.0
PRODID:-//Corridas de Rua - RS - ECPv4.5.7//NONSGML v1.0//EN
CALSCALE:GREGORIAN
METHOD:PUBLISH
X-WR-CALNAME:Corridas de Rua - RS
X-ORIGINAL-URL:https://corridasderuars.com.br
X-WR-CALDESC:Events for Corridas de Rua - RS
BEGIN:VEVENT
DTSTART;TZID=UTC+0:20190210T090000
DTEND;TZID=UTC+0:20190210T090000
DTSTAMP:20260419T182846
CREATED:20190116T115912Z
LAST-MODIFIED:20190116T115912Z
UID:4704-1549789200-1549789200@corridasderuars.com.br
SUMMARY:6ª Corrida Rústica de Verão de Itaara
DESCRIPTION:
URL:https://corridasderuars.com.br/evento/6a-corrida-rustica-de-verao-de-itaara/
CATEGORIES:2km,5.3km
ATTACH;FMTTYPE=image/jpeg:https://corridasderuars.com.br/wp-content/uploads/2017/07/bg22-1.jpg
END:VEVENT
END:VCALENDAR