BEGIN:VCALENDAR
VERSION:2.0
PRODID:-//Corridas de Rua - RS - ECPv4.5.7//NONSGML v1.0//EN
CALSCALE:GREGORIAN
METHOD:PUBLISH
X-WR-CALNAME:Corridas de Rua - RS
X-ORIGINAL-URL:https://corridasderuars.com.br
X-WR-CALDESC:Events for Corridas de Rua - RS
BEGIN:VEVENT
DTSTART;TZID=UTC+0:20170723T090000
DTEND;TZID=UTC+0:20170723T090000
DTSTAMP:20260420T071121
CREATED:20170704T212654Z
LAST-MODIFIED:20170710T143820Z
UID:2174-1500800400-1500800400@corridasderuars.com.br
SUMMARY:6Km Rústica e Caminhada 3Km Nova Hartz
DESCRIPTION:
URL:https://corridasderuars.com.br/evento/6-km-rustica-e-caminhada-3-km-nova-hartz/
CATEGORIES:3km,6km
ATTACH;FMTTYPE=image/jpeg:https://corridasderuars.com.br/wp-content/uploads/2017/07/bg3-1.jpg
END:VEVENT
END:VCALENDAR