BEGIN:VCALENDAR
VERSION:2.0
PRODID:-//Corridas de Rua - RS - ECPv4.5.7//NONSGML v1.0//EN
CALSCALE:GREGORIAN
METHOD:PUBLISH
X-WR-CALNAME:Corridas de Rua - RS
X-ORIGINAL-URL:https://corridasderuars.com.br
X-WR-CALDESC:Events for Corridas de Rua - RS
BEGIN:VEVENT
DTSTART;TZID=UTC+0:20191109T170000
DTEND;TZID=UTC+0:20191109T170000
DTSTAMP:20260421T104600
CREATED:20191011T190306Z
LAST-MODIFIED:20191011T190306Z
UID:5834-1573318800-1573318800@corridasderuars.com.br
SUMMARY:5ª Sicredi Night Run
DESCRIPTION:
URL:https://corridasderuars.com.br/evento/5a-sicredi-night-run/
CATEGORIES:10km,3km,5km
ATTACH;FMTTYPE=image/jpeg:https://corridasderuars.com.br/wp-content/uploads/2017/07/bg17-1.jpg
END:VEVENT
END:VCALENDAR