BEGIN:VCALENDAR
VERSION:2.0
PRODID:-//Corridas de Rua - RS - ECPv4.5.7//NONSGML v1.0//EN
CALSCALE:GREGORIAN
METHOD:PUBLISH
X-WR-CALNAME:Corridas de Rua - RS
X-ORIGINAL-URL:https://corridasderuars.com.br
X-WR-CALDESC:Events for Corridas de Rua - RS
BEGIN:VEVENT
DTSTART;TZID=UTC+0:20180826T153000
DTEND;TZID=UTC+0:20180826T153000
DTSTAMP:20260419T231416
CREATED:20180720T142300Z
LAST-MODIFIED:20180720T142327Z
UID:4034-1535297400-1535297400@corridasderuars.com.br
SUMMARY:5ª Rústica Duque de Caxias
DESCRIPTION:
URL:https://corridasderuars.com.br/evento/5a-rustica-duque-de-caxias/
CATEGORIES:9.2km
ATTACH;FMTTYPE=image/jpeg:https://corridasderuars.com.br/wp-content/uploads/2017/12/bg55.jpg
END:VEVENT
END:VCALENDAR