BEGIN:VCALENDAR
VERSION:2.0
PRODID:-//Corridas de Rua - RS - ECPv4.5.7//NONSGML v1.0//EN
CALSCALE:GREGORIAN
METHOD:PUBLISH
X-WR-CALNAME:Corridas de Rua - RS
X-ORIGINAL-URL:https://corridasderuars.com.br
X-WR-CALDESC:Events for Corridas de Rua - RS
BEGIN:VEVENT
DTSTART;TZID=UTC+0:20180916T100000
DTEND;TZID=UTC+0:20180916T100000
DTSTAMP:20260420T004711
CREATED:20180827T112514Z
LAST-MODIFIED:20180827T112514Z
UID:4171-1537092000-1537092000@corridasderuars.com.br
SUMMARY:5ª Rústica de Aniversário IFSul – Campus Charqueadas
DESCRIPTION:
URL:https://corridasderuars.com.br/evento/5a-rustica-de-aniversario-ifsul-campus-charqueadas/
CATEGORIES:4km
ATTACH;FMTTYPE=image/jpeg:https://corridasderuars.com.br/wp-content/uploads/2017/07/bg31.jpg
END:VEVENT
END:VCALENDAR