BEGIN:VCALENDAR
VERSION:2.0
PRODID:-//Corridas de Rua - RS - ECPv4.5.7//NONSGML v1.0//EN
CALSCALE:GREGORIAN
METHOD:PUBLISH
X-WR-CALNAME:Corridas de Rua - RS
X-ORIGINAL-URL:https://corridasderuars.com.br
X-WR-CALDESC:Events for Corridas de Rua - RS
BEGIN:VEVENT
DTSTART;TZID=UTC+0:20260516T080000
DTEND;TZID=UTC+0:20260516T080000
DTSTAMP:20260420T101127
CREATED:20260304T143750Z
LAST-MODIFIED:20260304T143750Z
UID:14012-1778918400-1778918400@corridasderuars.com.br
SUMMARY:5ª Etapa CTMRS 2026 RS Espumante
DESCRIPTION:
URL:https://corridasderuars.com.br/evento/5a-etapa-ctmrs-2026-rs-espumante/
CATEGORIES:10km,5km
ATTACH;FMTTYPE=image/jpeg:https://corridasderuars.com.br/wp-content/uploads/2017/07/bg22-1.jpg
END:VEVENT
END:VCALENDAR