BEGIN:VCALENDAR
VERSION:2.0
PRODID:-//Corridas de Rua - RS - ECPv4.5.7//NONSGML v1.0//EN
CALSCALE:GREGORIAN
METHOD:PUBLISH
X-WR-CALNAME:Corridas de Rua - RS
X-ORIGINAL-URL:https://corridasderuars.com.br
X-WR-CALDESC:Events for Corridas de Rua - RS
BEGIN:VEVENT
DTSTART;TZID=UTC+0:20180818T160000
DTEND;TZID=UTC+0:20180818T160000
DTSTAMP:20260419T214251
CREATED:20180806T145945Z
LAST-MODIFIED:20180806T150131Z
UID:4109-1534608000-1534608000@corridasderuars.com.br
SUMMARY:5ª Etapa Cross Country Cidade de Esteio
DESCRIPTION:
URL:https://corridasderuars.com.br/evento/5a-etapa-cross-country-cidade-de-esteio/
CATEGORIES:2.8km,4.2km
ATTACH;FMTTYPE=image/jpeg:https://corridasderuars.com.br/wp-content/uploads/2017/12/bg44.jpg
END:VEVENT
END:VCALENDAR