BEGIN:VCALENDAR
VERSION:2.0
PRODID:-//Corridas de Rua - RS - ECPv4.5.7//NONSGML v1.0//EN
CALSCALE:GREGORIAN
METHOD:PUBLISH
X-WR-CALNAME:Corridas de Rua - RS
X-ORIGINAL-URL:https://corridasderuars.com.br
X-WR-CALDESC:Events for Corridas de Rua - RS
BEGIN:VEVENT
DTSTART;TZID=UTC+0:20171217T080000
DTEND;TZID=UTC+0:20171217T080000
DTSTAMP:20260420T054053
CREATED:20171110T164023Z
LAST-MODIFIED:20171110T164023Z
UID:3098-1513497600-1513497600@corridasderuars.com.br
SUMMARY:5ª Corrida Solidária de Natal Sprint Final
DESCRIPTION:
URL:https://corridasderuars.com.br/evento/5a-corrida-solidaria-de-natal-sprint-final/
CATEGORIES:3.6km,7.2km
ATTACH;FMTTYPE=image/jpeg:https://corridasderuars.com.br/wp-content/uploads/2017/07/bg20-1.jpg
END:VEVENT
END:VCALENDAR