BEGIN:VCALENDAR
VERSION:2.0
PRODID:-//Corridas de Rua - RS - ECPv4.5.7//NONSGML v1.0//EN
CALSCALE:GREGORIAN
METHOD:PUBLISH
X-WR-CALNAME:Corridas de Rua - RS
X-ORIGINAL-URL:https://corridasderuars.com.br
X-WR-CALDESC:Events for Corridas de Rua - RS
BEGIN:VEVENT
DTSTART;TZID=UTC+0:20180818T090000
DTEND;TZID=UTC+0:20180818T090000
DTSTAMP:20260420T003940
CREATED:20180723T130710Z
LAST-MODIFIED:20180723T130823Z
UID:4053-1534582800-1534582800@corridasderuars.com.br
SUMMARY:5ª Corrida Rústica Sesc Cidade de Tenente Portela
DESCRIPTION:
URL:https://corridasderuars.com.br/evento/5a-corrida-rustica-sesc-cidade-de-tenente-portela/
CATEGORIES:2km,5km
ATTACH;FMTTYPE=image/jpeg:https://corridasderuars.com.br/wp-content/uploads/2017/07/bg3-1.jpg
END:VEVENT
END:VCALENDAR