BEGIN:VCALENDAR
VERSION:2.0
PRODID:-//Corridas de Rua - RS - ECPv4.5.7//NONSGML v1.0//EN
CALSCALE:GREGORIAN
METHOD:PUBLISH
X-WR-CALNAME:Corridas de Rua - RS
X-ORIGINAL-URL:https://corridasderuars.com.br
X-WR-CALDESC:Events for Corridas de Rua - RS
BEGIN:VEVENT
DTSTART;TZID=UTC+0:20171118T140000
DTEND;TZID=UTC+0:20171118T140000
DTSTAMP:20260420T071232
CREATED:20171103T110052Z
LAST-MODIFIED:20171103T110052Z
UID:3047-1511013600-1511013600@corridasderuars.com.br
SUMMARY:5ª Corrida pela Vida de Dois Irmãos
DESCRIPTION:Em novembro\, Dois Irmãos recebe a Corrida pela Vida do ICI! \nNo dia 18/11\, a partir das 14h\, convide os amigos e venha para a Praça do Imigrante\, no Centro de Dois Irmãos\, participar desta grande mobilização em prol da causa do câncer infantojuvenil! \nO ingresso para participar da caminhada é a camiseta do evento (em breve\, mais informações sobre onde encontrar). \nServiço – 5ª Corrida pela Vida de Dois Irmãos:\n– Data: 18 de novembro\n– Início da caminhada: 14h\n– Local: Praça do Imigrante (Av. 25 de Julho – Centro\, Dois Irmãos)\n– Show do Cantor Lumi: 15h30\, no Parque do Trabalhador (Rua Porto Alegre – Centro\, Dois Irmãos) \n
URL:https://corridasderuars.com.br/evento/5a-corrida-pela-vida-de-dois-irmaos/
ATTACH;FMTTYPE=image/jpeg:https://corridasderuars.com.br/wp-content/uploads/2017/07/bg15-1.jpg
END:VEVENT
END:VCALENDAR