BEGIN:VCALENDAR
VERSION:2.0
PRODID:-//Corridas de Rua - RS - ECPv4.5.7//NONSGML v1.0//EN
CALSCALE:GREGORIAN
METHOD:PUBLISH
X-WR-CALNAME:Corridas de Rua - RS
X-ORIGINAL-URL:https://corridasderuars.com.br
X-WR-CALDESC:Events for Corridas de Rua - RS
BEGIN:VEVENT
DTSTART;TZID=UTC+0:20171231T080000
DTEND;TZID=UTC+0:20171231T080000
DTSTAMP:20260420T062747
CREATED:20171123T113852Z
LAST-MODIFIED:20171123T113919Z
UID:3229-1514707200-1514707200@corridasderuars.com.br
SUMMARY:52ª Corrida de São Silvestre de São Borja
DESCRIPTION:
URL:https://corridasderuars.com.br/evento/52a-corrida-de-sao-silvestre-de-sao-borja/
CATEGORIES:5km
ATTACH;FMTTYPE=image/jpeg:https://corridasderuars.com.br/wp-content/uploads/2017/07/bg34.jpg
END:VEVENT
END:VCALENDAR