BEGIN:VCALENDAR
VERSION:2.0
PRODID:-//Corridas de Rua - RS - ECPv4.5.7//NONSGML v1.0//EN
CALSCALE:GREGORIAN
METHOD:PUBLISH
X-WR-CALNAME:Corridas de Rua - RS
X-ORIGINAL-URL:https://corridasderuars.com.br
X-WR-CALDESC:Events for Corridas de Rua - RS
BEGIN:VEVENT
DTSTART;TZID=UTC+0:20170827T153000
DTEND;TZID=UTC+0:20170827T153000
DTSTAMP:20260420T051536
CREATED:20170801T195435Z
LAST-MODIFIED:20170801T195435Z
UID:2604-1503847800-1503847800@corridasderuars.com.br
SUMMARY:4ª Rústica Duque de Caxias
DESCRIPTION:
URL:https://corridasderuars.com.br/evento/4a-rustica-duque-de-caxias/
CATEGORIES:9km
ATTACH;FMTTYPE=image/jpeg:https://corridasderuars.com.br/wp-content/uploads/2017/07/bg15-1.jpg
END:VEVENT
END:VCALENDAR