BEGIN:VCALENDAR
VERSION:2.0
PRODID:-//Corridas de Rua - RS - ECPv4.5.7//NONSGML v1.0//EN
CALSCALE:GREGORIAN
METHOD:PUBLISH
X-WR-CALNAME:Corridas de Rua - RS
X-ORIGINAL-URL:https://corridasderuars.com.br
X-WR-CALDESC:Events for Corridas de Rua - RS
BEGIN:VEVENT
DTSTART;TZID=UTC+0:20180218T083000
DTEND;TZID=UTC+0:20180218T083000
DTSTAMP:20260420T040639
CREATED:20180208T130532Z
LAST-MODIFIED:20180208T130532Z
UID:3576-1518942600-1518942600@corridasderuars.com.br
SUMMARY:4ª Rústica de Itaara
DESCRIPTION:
URL:https://corridasderuars.com.br/evento/4a-rustica-de-itaara/
CATEGORIES:2km,5km
ATTACH;FMTTYPE=image/jpeg:https://corridasderuars.com.br/wp-content/uploads/2017/12/bg57.jpg
END:VEVENT
END:VCALENDAR