BEGIN:VCALENDAR
VERSION:2.0
PRODID:-//Corridas de Rua - RS - ECPv4.5.7//NONSGML v1.0//EN
CALSCALE:GREGORIAN
METHOD:PUBLISH
X-WR-CALNAME:Corridas de Rua - RS
X-ORIGINAL-URL:https://corridasderuars.com.br
X-WR-CALDESC:Events for Corridas de Rua - RS
BEGIN:VEVENT
DTSTART;TZID=UTC+0:20180421T090000
DTEND;TZID=UTC+0:20180421T090000
DTSTAMP:20260419T231601
CREATED:20180411T175033Z
LAST-MODIFIED:20180411T175033Z
UID:3765-1524301200-1524301200@corridasderuars.com.br
SUMMARY:4ª Rústica Colégio Tiradentes
DESCRIPTION:
URL:https://corridasderuars.com.br/evento/4a-rustica-colegio-tiradentes/
CATEGORIES:5.4km
ATTACH;FMTTYPE=image/jpeg:https://corridasderuars.com.br/wp-content/uploads/2017/07/bg6-1.jpg
END:VEVENT
END:VCALENDAR