BEGIN:VCALENDAR
VERSION:2.0
PRODID:-//Corridas de Rua - RS - ECPv4.5.7//NONSGML v1.0//EN
CALSCALE:GREGORIAN
METHOD:PUBLISH
X-WR-CALNAME:Corridas de Rua - RS
X-ORIGINAL-URL:https://corridasderuars.com.br
X-WR-CALDESC:Events for Corridas de Rua - RS
BEGIN:VEVENT
DTSTART;TZID=UTC+0:20260418T080000
DTEND;TZID=UTC+0:20260418T080000
DTSTAMP:20260420T101126
CREATED:20260304T143955Z
LAST-MODIFIED:20260304T143955Z
UID:14014-1776499200-1776499200@corridasderuars.com.br
SUMMARY:4ª Etapa CTMRS 2026 RS São Pedro
DESCRIPTION:
URL:https://corridasderuars.com.br/evento/4a-etapa-ctmrs-2026-rs-sao-pedro/
CATEGORIES:10km,5km
ATTACH;FMTTYPE=image/jpeg:https://corridasderuars.com.br/wp-content/uploads/2017/12/bg52.jpg
END:VEVENT
END:VCALENDAR