BEGIN:VCALENDAR
VERSION:2.0
PRODID:-//Corridas de Rua - RS - ECPv4.5.7//NONSGML v1.0//EN
CALSCALE:GREGORIAN
METHOD:PUBLISH
X-WR-CALNAME:Corridas de Rua - RS
X-ORIGINAL-URL:https://corridasderuars.com.br
X-WR-CALDESC:Events for Corridas de Rua - RS
BEGIN:VEVENT
DTSTART;TZID=UTC+0:20210206T073000
DTEND;TZID=UTC+0:20210206T073000
DTSTAMP:20260421T084114
CREATED:20210128T135213Z
LAST-MODIFIED:20210128T135213Z
UID:7030-1612596600-1612596600@corridasderuars.com.br
SUMMARY:4ª Etapa - Circuito Corridas de Rua de Bagé 2020 - Edição Especial
DESCRIPTION:
URL:https://corridasderuars.com.br/evento/4a-etapa-circuito-corridas-de-rua-de-bage-2020-edicao-especial/
CATEGORIES:4km
ATTACH;FMTTYPE=image/jpeg:https://corridasderuars.com.br/wp-content/uploads/2019/08/bg214.jpg
END:VEVENT
END:VCALENDAR