BEGIN:VCALENDAR
VERSION:2.0
PRODID:-//Corridas de Rua - RS - ECPv4.5.7//NONSGML v1.0//EN
CALSCALE:GREGORIAN
METHOD:PUBLISH
X-WR-CALNAME:Corridas de Rua - RS
X-ORIGINAL-URL:https://corridasderuars.com.br
X-WR-CALDESC:Events for Corridas de Rua - RS
BEGIN:VEVENT
DTSTART;TZID=UTC+0:20181021T140000
DTEND;TZID=UTC+0:20181021T140000
DTSTAMP:20260419T195438
CREATED:20180808T133945Z
LAST-MODIFIED:20180808T133945Z
UID:4115-1540130400-1540130400@corridasderuars.com.br
SUMMARY:4ª Corrida Rústica de Getúlio Vargas
DESCRIPTION:
URL:https://corridasderuars.com.br/evento/4a-corrida-rustica-de-getulio-vargas/
CATEGORIES:5km
ATTACH;FMTTYPE=image/jpeg:https://corridasderuars.com.br/wp-content/uploads/2017/07/bg36.jpg
END:VEVENT
END:VCALENDAR