BEGIN:VCALENDAR
VERSION:2.0
PRODID:-//Corridas de Rua - RS - ECPv4.5.7//NONSGML v1.0//EN
CALSCALE:GREGORIAN
METHOD:PUBLISH
X-WR-CALNAME:Corridas de Rua - RS
X-ORIGINAL-URL:https://corridasderuars.com.br
X-WR-CALDESC:Events for Corridas de Rua - RS
BEGIN:VEVENT
DTSTART;TZID=UTC+0:20260524T090000
DTEND;TZID=UTC+0:20260524T090000
DTSTAMP:20260421T083656
CREATED:20260227T193920Z
LAST-MODIFIED:20260227T193920Z
UID:13997-1779613200-1779613200@corridasderuars.com.br
SUMMARY:4ª Corrida da Infantaria
DESCRIPTION:
URL:https://corridasderuars.com.br/evento/4a-corrida-da-infantaria/
CATEGORIES:10km,3km
ATTACH;FMTTYPE=image/jpeg:https://corridasderuars.com.br/wp-content/uploads/2021/10/6.jpg
END:VEVENT
END:VCALENDAR