BEGIN:VCALENDAR
VERSION:2.0
PRODID:-//Corridas de Rua - RS - ECPv4.5.7//NONSGML v1.0//EN
CALSCALE:GREGORIAN
METHOD:PUBLISH
X-WR-CALNAME:Corridas de Rua - RS
X-ORIGINAL-URL:https://corridasderuars.com.br
X-WR-CALDESC:Events for Corridas de Rua - RS
BEGIN:VEVENT
DTSTART;TZID=UTC+0:20181125T100000
DTEND;TZID=UTC+0:20181125T100000
DTSTAMP:20260420T004652
CREATED:20171110T173708Z
LAST-MODIFIED:20181112T140548Z
UID:3149-1543140000-1543140000@corridasderuars.com.br
SUMMARY:4ª Circuito Trail Estações - Trail Verão
DESCRIPTION:
URL:https://corridasderuars.com.br/evento/4a-circuito-trail-estacoes-trail-verao/
CATEGORIES:14km,3km,6km
ATTACH;FMTTYPE=image/jpeg:https://corridasderuars.com.br/wp-content/uploads/2017/07/bg35.jpg
END:VEVENT
END:VCALENDAR