BEGIN:VCALENDAR
VERSION:2.0
PRODID:-//Corridas de Rua - RS - ECPv4.5.7//NONSGML v1.0//EN
CALSCALE:GREGORIAN
METHOD:PUBLISH
X-WR-CALNAME:Corridas de Rua - RS
X-ORIGINAL-URL:https://corridasderuars.com.br
X-WR-CALDESC:Events for Corridas de Rua - RS
BEGIN:VEVENT
DTSTART;TZID=UTC+0:20180916T080000
DTEND;TZID=UTC+0:20180916T080000
DTSTAMP:20260419T215241
CREATED:20180726T212736Z
LAST-MODIFIED:20180904T114012Z
UID:4074-1537084800-1537084800@corridasderuars.com.br
SUMMARY:4ª Chimarun
DESCRIPTION:
URL:https://corridasderuars.com.br/evento/4a-chimarun/
CATEGORIES:10km,3km,5km
ATTACH;FMTTYPE=image/jpeg:https://corridasderuars.com.br/wp-content/uploads/2017/07/bg1-1.jpg
END:VEVENT
END:VCALENDAR