BEGIN:VCALENDAR
VERSION:2.0
PRODID:-//Corridas de Rua - RS - ECPv4.5.7//NONSGML v1.0//EN
CALSCALE:GREGORIAN
METHOD:PUBLISH
X-WR-CALNAME:Corridas de Rua - RS
X-ORIGINAL-URL:https://corridasderuars.com.br
X-WR-CALDESC:Events for Corridas de Rua - RS
BEGIN:VEVENT
DTSTART;TZID=UTC+0:20171231T090000
DTEND;TZID=UTC+0:20171231T090000
DTSTAMP:20260420T044026
CREATED:20171204T112107Z
LAST-MODIFIED:20171204T112107Z
UID:3259-1514710800-1514710800@corridasderuars.com.br
SUMMARY:43ª Rústica de Carlos Barbosa
DESCRIPTION:
URL:https://corridasderuars.com.br/evento/43a-rustica-de-carlos-barbosa/
CATEGORIES:6.6km
ATTACH;FMTTYPE=image/jpeg:https://corridasderuars.com.br/wp-content/uploads/2017/07/bg7-1.jpg
END:VEVENT
END:VCALENDAR