BEGIN:VCALENDAR
VERSION:2.0
PRODID:-//Corridas de Rua - RS - ECPv4.5.7//NONSGML v1.0//EN
CALSCALE:GREGORIAN
METHOD:PUBLISH
X-WR-CALNAME:Corridas de Rua - RS
X-ORIGINAL-URL:https://corridasderuars.com.br
X-WR-CALDESC:Events for Corridas de Rua - RS
BEGIN:VEVENT
DTSTART;TZID=UTC+0:20190202T193000
DTEND;TZID=UTC+0:20190202T193000
DTSTAMP:20260421T083838
CREATED:20181203T175701Z
LAST-MODIFIED:20181203T175701Z
UID:4578-1549135800-1549135800@corridasderuars.com.br
SUMMARY:3º Trail Noturno Picada Café
DESCRIPTION:
URL:https://corridasderuars.com.br/evento/3o-trail-noturno-picada-cafe/
CATEGORIES:15km,7km
ATTACH;FMTTYPE=image/jpeg:https://corridasderuars.com.br/wp-content/uploads/2017/07/bgCountry.jpg
END:VEVENT
END:VCALENDAR