BEGIN:VCALENDAR
VERSION:2.0
PRODID:-//Corridas de Rua - RS - ECPv4.5.7//NONSGML v1.0//EN
CALSCALE:GREGORIAN
METHOD:PUBLISH
X-WR-CALNAME:Corridas de Rua - RS
X-ORIGINAL-URL:https://corridasderuars.com.br
X-WR-CALDESC:Events for Corridas de Rua - RS
BEGIN:VEVENT
DTSTART;TZID=UTC+0:20211218T183000
DTEND;TZID=UTC+0:20211218T183000
DTSTAMP:20260421T085252
CREATED:20211208T153223Z
LAST-MODIFIED:20211208T153223Z
UID:7610-1639852200-1639852200@corridasderuars.com.br
SUMMARY:3º Passeio Ciclístico e Rústica Noturna de Imbé/RS
DESCRIPTION:
URL:https://corridasderuars.com.br/evento/3o-passeio-ciclistico-e-rustica-noturna-de-imbers/
CATEGORIES:5km
ATTACH;FMTTYPE=image/jpeg:https://corridasderuars.com.br/wp-content/uploads/2017/12/bg42.jpg
END:VEVENT
END:VCALENDAR