BEGIN:VCALENDAR
VERSION:2.0
PRODID:-//Corridas de Rua - RS - ECPv4.5.7//NONSGML v1.0//EN
CALSCALE:GREGORIAN
METHOD:PUBLISH
X-WR-CALNAME:Corridas de Rua - RS
X-ORIGINAL-URL:https://corridasderuars.com.br
X-WR-CALDESC:Events for Corridas de Rua - RS
BEGIN:VEVENT
DTSTART;VALUE=DATE:20180506
DTEND;VALUE=DATE:20180506
DTSTAMP:20260420T021419
CREATED:20171110T171022Z
LAST-MODIFIED:20171223T132050Z
UID:3114-1525564800-1525651199@corridasderuars.com.br
SUMMARY:3º Megarace
DESCRIPTION:
URL:https://corridasderuars.com.br/evento/3o-megarace/
CATEGORIES:10km,6km
ATTACH;FMTTYPE=image/jpeg:https://corridasderuars.com.br/wp-content/uploads/2017/07/bg24-1.jpg
END:VEVENT
END:VCALENDAR