BEGIN:VCALENDAR
VERSION:2.0
PRODID:-//Corridas de Rua - RS - ECPv4.5.7//NONSGML v1.0//EN
CALSCALE:GREGORIAN
METHOD:PUBLISH
X-WR-CALNAME:Corridas de Rua - RS
X-ORIGINAL-URL:https://corridasderuars.com.br
X-WR-CALDESC:Events for Corridas de Rua - RS
BEGIN:VEVENT
DTSTART;TZID=UTC+0:20181118T090000
DTEND;TZID=UTC+0:20181118T090000
DTSTAMP:20260419T200448
CREATED:20181025T140304Z
LAST-MODIFIED:20181025T140304Z
UID:4427-1542531600-1542531600@corridasderuars.com.br
SUMMARY:3ª Rústica Espaço Fit e Macro Sport
DESCRIPTION:
URL:https://corridasderuars.com.br/evento/3a-rustica-espaco-fit-e-macro-sport/
CATEGORIES:3.5km
ATTACH;FMTTYPE=image/jpeg:https://corridasderuars.com.br/wp-content/uploads/2018/10/bg75.jpg
END:VEVENT
END:VCALENDAR