BEGIN:VCALENDAR
VERSION:2.0
PRODID:-//Corridas de Rua - RS - ECPv4.5.7//NONSGML v1.0//EN
CALSCALE:GREGORIAN
METHOD:PUBLISH
X-WR-CALNAME:Corridas de Rua - RS
X-ORIGINAL-URL:https://corridasderuars.com.br
X-WR-CALDESC:Events for Corridas de Rua - RS
BEGIN:VEVENT
DTSTART;TZID=UTC+0:20181209T090000
DTEND;TZID=UTC+0:20181209T090000
DTSTAMP:20260419T195317
CREATED:20180605T114250Z
LAST-MODIFIED:20180605T114250Z
UID:3938-1544346000-1544346000@corridasderuars.com.br
SUMMARY:3ª Rústica de Taquari
DESCRIPTION:
URL:https://corridasderuars.com.br/evento/3a-rustica-de-taquari/
CATEGORIES:3km,7km
ATTACH;FMTTYPE=image/jpeg:https://corridasderuars.com.br/wp-content/uploads/2017/07/bg7-1.jpg
END:VEVENT
END:VCALENDAR