BEGIN:VCALENDAR
VERSION:2.0
PRODID:-//Corridas de Rua - RS - ECPv4.5.7//NONSGML v1.0//EN
CALSCALE:GREGORIAN
METHOD:PUBLISH
X-WR-CALNAME:Corridas de Rua - RS
X-ORIGINAL-URL:https://corridasderuars.com.br
X-WR-CALDESC:Events for Corridas de Rua - RS
BEGIN:VEVENT
DTSTART;TZID=UTC+0:20180415T080000
DTEND;TZID=UTC+0:20180415T080000
DTSTAMP:20260420T040639
CREATED:20180103T161837Z
LAST-MODIFIED:20180103T161918Z
UID:3385-1523779200-1523779200@corridasderuars.com.br
SUMMARY:3ª Rústica da Morungava Naturalfit
DESCRIPTION:
URL:https://corridasderuars.com.br/evento/3a-rustica-da-morungava-naturalfit/
CATEGORIES:6km
ATTACH;FMTTYPE=image/jpeg:https://corridasderuars.com.br/wp-content/uploads/2017/12/bg53.jpg
END:VEVENT
END:VCALENDAR