BEGIN:VCALENDAR
VERSION:2.0
PRODID:-//Corridas de Rua - RS - ECPv4.5.7//NONSGML v1.0//EN
CALSCALE:GREGORIAN
METHOD:PUBLISH
X-WR-CALNAME:Corridas de Rua - RS
X-ORIGINAL-URL:https://corridasderuars.com.br
X-WR-CALDESC:Events for Corridas de Rua - RS
BEGIN:VEVENT
DTSTART;TZID=UTC+0:20180310T170000
DTEND;TZID=UTC+0:20180310T170000
DTSTAMP:20260420T021632
CREATED:20180130T170701Z
LAST-MODIFIED:20180130T170701Z
UID:3527-1520701200-1520701200@corridasderuars.com.br
SUMMARY:3ª Rústica Capital Polonesa dos Gaúchos
DESCRIPTION:
URL:https://corridasderuars.com.br/evento/3a-rustica-capital-polonesa-dos-gauchos/
CATEGORIES:4.5km
ATTACH;FMTTYPE=image/jpeg:https://corridasderuars.com.br/wp-content/uploads/2017/07/bg25-1.jpg
END:VEVENT
END:VCALENDAR