BEGIN:VCALENDAR
VERSION:2.0
PRODID:-//Corridas de Rua - RS - ECPv4.5.7//NONSGML v1.0//EN
CALSCALE:GREGORIAN
METHOD:PUBLISH
X-WR-CALNAME:Corridas de Rua - RS
X-ORIGINAL-URL:https://corridasderuars.com.br
X-WR-CALDESC:Events for Corridas de Rua - RS
BEGIN:VEVENT
DTSTART;TZID=UTC+0:20181111T090000
DTEND;TZID=UTC+0:20181111T090000
DTSTAMP:20260419T235826
CREATED:20171226T172344Z
LAST-MODIFIED:20180402T122310Z
UID:3365-1541926800-1541926800@corridasderuars.com.br
SUMMARY:3ª Poa Golden Mile
DESCRIPTION:
URL:https://corridasderuars.com.br/evento/3a-poa-golden-mile/
CATEGORIES:10km,5km
ATTACH;FMTTYPE=image/jpeg:https://corridasderuars.com.br/wp-content/uploads/2017/07/bg35.jpg
END:VEVENT
END:VCALENDAR