BEGIN:VCALENDAR
VERSION:2.0
PRODID:-//Corridas de Rua - RS - ECPv4.5.7//NONSGML v1.0//EN
CALSCALE:GREGORIAN
METHOD:PUBLISH
X-WR-CALNAME:Corridas de Rua - RS
X-ORIGINAL-URL:https://corridasderuars.com.br
X-WR-CALDESC:Events for Corridas de Rua - RS
BEGIN:VEVENT
DTSTART;TZID=UTC+0:20171022T083000
DTEND;TZID=UTC+0:20171022T083000
DTSTAMP:20260420T084433
CREATED:20170829T170713Z
LAST-MODIFIED:20170829T170900Z
UID:2724-1508661000-1508661000@corridasderuars.com.br
SUMMARY:3ª Meia Maratona Personal Fit
DESCRIPTION:
URL:https://corridasderuars.com.br/evento/3a-meia-maratona-personal-fit/
CATEGORIES:10km,21km
ATTACH;FMTTYPE=image/jpeg:https://corridasderuars.com.br/wp-content/uploads/2017/07/bg29-1.jpg
END:VEVENT
END:VCALENDAR