BEGIN:VCALENDAR
VERSION:2.0
PRODID:-//Corridas de Rua - RS - ECPv4.5.7//NONSGML v1.0//EN
CALSCALE:GREGORIAN
METHOD:PUBLISH
X-WR-CALNAME:Corridas de Rua - RS
X-ORIGINAL-URL:https://corridasderuars.com.br
X-WR-CALDESC:Events for Corridas de Rua - RS
BEGIN:VEVENT
DTSTART;TZID=UTC+0:20170917T070000
DTEND;TZID=UTC+0:20170917T070000
DTSTAMP:20260420T071711
CREATED:20170710T192646Z
LAST-MODIFIED:20170710T192646Z
UID:2398-1505631600-1505631600@corridasderuars.com.br
SUMMARY:3ª Meia Maratona de Caxias do Sul
DESCRIPTION:
URL:https://corridasderuars.com.br/evento/3a-meia-maratona-de-caxias-do-sul/
CATEGORIES:10km,21km,5km
ATTACH;FMTTYPE=image/jpeg:https://corridasderuars.com.br/wp-content/uploads/2017/07/bg8-1.jpg
END:VEVENT
END:VCALENDAR