BEGIN:VCALENDAR
VERSION:2.0
PRODID:-//Corridas de Rua - RS - ECPv4.5.7//NONSGML v1.0//EN
CALSCALE:GREGORIAN
METHOD:PUBLISH
X-WR-CALNAME:Corridas de Rua - RS
X-ORIGINAL-URL:https://corridasderuars.com.br
X-WR-CALDESC:Events for Corridas de Rua - RS
BEGIN:VEVENT
DTSTART;TZID=UTC+0:20190721T090000
DTEND;TZID=UTC+0:20190721T090000
DTSTAMP:20260421T085341
CREATED:20190702T130323Z
LAST-MODIFIED:20190702T130323Z
UID:5367-1563699600-1563699600@corridasderuars.com.br
SUMMARY:3ª Corrida Rústica 25° Batalhão da Brigada Militar
DESCRIPTION:
URL:https://corridasderuars.com.br/evento/3a-corrida-rustica-25-batalhao-da-brigada-militar/
CATEGORIES:5km
ATTACH;FMTTYPE=image/jpeg:https://corridasderuars.com.br/wp-content/uploads/2018/10/bg84.jpg
END:VEVENT
END:VCALENDAR