BEGIN:VCALENDAR
VERSION:2.0
PRODID:-//Corridas de Rua - RS - ECPv4.5.7//NONSGML v1.0//EN
CALSCALE:GREGORIAN
METHOD:PUBLISH
X-WR-CALNAME:Corridas de Rua - RS
X-ORIGINAL-URL:https://corridasderuars.com.br
X-WR-CALDESC:Events for Corridas de Rua - RS
BEGIN:VEVENT
DTSTART;TZID=UTC+0:20190704T200000
DTEND;TZID=UTC+0:20190704T200000
DTSTAMP:20260421T083907
CREATED:20190625T124142Z
LAST-MODIFIED:20190625T124142Z
UID:5335-1562270400-1562270400@corridasderuars.com.br
SUMMARY:3ª Corrida Noturna do Fogo
DESCRIPTION:**** PROVA GRATUITA **** \n3° CORRIDA NOTURNA DO FOGO \nData: 04 de julho\nHorário de largada: 20h\nLocal: Av. Fernandes Bastos\, 1218 (Corpo de Bombeiros Militar de Tramandaí)\nCidade: Tramandaí/RS\nModalidade: 4km \nPremiação com troféus até 10° lugar geral masculino e feminino. Todos que concluírem a prova receberam medalhas de participação. \nAs inscrições são gratuitas e poderão ser feitas antecipadamente no Corpo de Bombeiros Militar de Tramandaí. \nMaiores Informações: (51) 99933.2079 – Daniel. \n
URL:https://corridasderuars.com.br/evento/3a-corrida-noturna-do-fogo/
CATEGORIES:4km
ATTACH;FMTTYPE=image/jpeg:https://corridasderuars.com.br/wp-content/uploads/2017/12/bg56.jpg
END:VEVENT
END:VCALENDAR