BEGIN:VCALENDAR
VERSION:2.0
PRODID:-//Corridas de Rua - RS - ECPv4.5.7//NONSGML v1.0//EN
CALSCALE:GREGORIAN
METHOD:PUBLISH
X-WR-CALNAME:Corridas de Rua - RS
X-ORIGINAL-URL:https://corridasderuars.com.br
X-WR-CALDESC:Events for Corridas de Rua - RS
BEGIN:VEVENT
DTSTART;TZID=UTC+0:20190616T153000
DTEND;TZID=UTC+0:20190616T153000
DTSTAMP:20260421T100712
CREATED:20190520T190546Z
LAST-MODIFIED:20190520T190546Z
UID:5219-1560699000-1560699000@corridasderuars.com.br
SUMMARY:3ª Corrida Kids Campo Bom
DESCRIPTION:
URL:https://corridasderuars.com.br/evento/3a-corrida-kids-campo-bom/
ATTACH;FMTTYPE=image/jpeg:https://corridasderuars.com.br/wp-content/uploads/2017/07/bgCrianca.jpg
END:VEVENT
END:VCALENDAR