BEGIN:VCALENDAR
VERSION:2.0
PRODID:-//Corridas de Rua - RS - ECPv4.5.7//NONSGML v1.0//EN
CALSCALE:GREGORIAN
METHOD:PUBLISH
X-WR-CALNAME:Corridas de Rua - RS
X-ORIGINAL-URL:https://corridasderuars.com.br
X-WR-CALDESC:Events for Corridas de Rua - RS
BEGIN:VEVENT
DTSTART;TZID=UTC+0:20180303T170000
DTEND;TZID=UTC+0:20180303T170000
DTSTAMP:20260420T025404
CREATED:20180206T123536Z
LAST-MODIFIED:20180206T123536Z
UID:3569-1520096400-1520096400@corridasderuars.com.br
SUMMARY:3ª Corrida e Caminhada de Vera Cruz
DESCRIPTION:
URL:https://corridasderuars.com.br/evento/3a-corrida-e-caminhada-de-vera-cruz/
CATEGORIES:3km,6km
ATTACH;FMTTYPE=image/jpeg:https://corridasderuars.com.br/wp-content/uploads/2017/07/bg37.jpg
END:VEVENT
END:VCALENDAR