BEGIN:VCALENDAR
VERSION:2.0
PRODID:-//Corridas de Rua - RS - ECPv4.5.7//NONSGML v1.0//EN
CALSCALE:GREGORIAN
METHOD:PUBLISH
X-WR-CALNAME:Corridas de Rua - RS
X-ORIGINAL-URL:https://corridasderuars.com.br
X-WR-CALDESC:Events for Corridas de Rua - RS
BEGIN:VEVENT
DTSTART;TZID=UTC+0:20171022T090000
DTEND;TZID=UTC+0:20171022T090000
DTSTAMP:20260420T072930
CREATED:20170915T135833Z
LAST-MODIFIED:20170915T135920Z
UID:2818-1508662800-1508662800@corridasderuars.com.br
SUMMARY:3ª CORRIDA DE ANIVERSÁRIO DE SÃO JOSÉ DO NORTE
DESCRIPTION:
URL:https://corridasderuars.com.br/evento/3a-corrida-de-aniversario-de-sao-jose-do-norte/
CATEGORIES:5km
ATTACH;FMTTYPE=image/jpeg:https://corridasderuars.com.br/wp-content/uploads/2017/07/bgCountry3.jpg
END:VEVENT
END:VCALENDAR