BEGIN:VCALENDAR
VERSION:2.0
PRODID:-//Corridas de Rua - RS - ECPv4.5.7//NONSGML v1.0//EN
CALSCALE:GREGORIAN
METHOD:PUBLISH
X-WR-CALNAME:Corridas de Rua - RS
X-ORIGINAL-URL:https://corridasderuars.com.br
X-WR-CALDESC:Events for Corridas de Rua - RS
BEGIN:VEVENT
DTSTART;TZID=UTC+0:20181216T090000
DTEND;TZID=UTC+0:20181216T090000
DTSTAMP:20260419T214138
CREATED:20181031T193940Z
LAST-MODIFIED:20181031T193940Z
UID:4464-1544950800-1544950800@corridasderuars.com.br
SUMMARY:3ª Corrida & Caminhada pela Qualidade de Vida
DESCRIPTION:Maiores Informações: WhatsApp (51) 99721.8912 \n
URL:https://corridasderuars.com.br/evento/3a-corrida-caminhada-pela-qualidade-de-vida/
CATEGORIES:5km
ATTACH;FMTTYPE=image/jpeg:https://corridasderuars.com.br/wp-content/uploads/2018/10/bg74.jpg
END:VEVENT
END:VCALENDAR