BEGIN:VCALENDAR
VERSION:2.0
PRODID:-//Corridas de Rua - RS - ECPv4.5.7//NONSGML v1.0//EN
CALSCALE:GREGORIAN
METHOD:PUBLISH
X-WR-CALNAME:Corridas de Rua - RS
X-ORIGINAL-URL:https://corridasderuars.com.br
X-WR-CALDESC:Events for Corridas de Rua - RS
BEGIN:VEVENT
DTSTART;TZID=UTC+0:20221211T080000
DTEND;TZID=UTC+0:20221211T080000
DTSTAMP:20260421T130715
CREATED:20221013T174822Z
LAST-MODIFIED:20221013T174822Z
UID:8616-1670745600-1670745600@corridasderuars.com.br
SUMMARY:3ª Cidade Rústica Dr. Maurício Cardoso
DESCRIPTION:
URL:https://corridasderuars.com.br/evento/3a-cidade-rustica-dr-mauricio-cardoso/
CATEGORIES:1.5km,5km
ATTACH;FMTTYPE=image/jpeg:https://corridasderuars.com.br/wp-content/uploads/2017/07/bg19-1.jpg
END:VEVENT
END:VCALENDAR