BEGIN:VCALENDAR
VERSION:2.0
PRODID:-//Corridas de Rua - RS - ECPv4.5.7//NONSGML v1.0//EN
CALSCALE:GREGORIAN
METHOD:PUBLISH
X-WR-CALNAME:Corridas de Rua - RS
X-ORIGINAL-URL:https://corridasderuars.com.br
X-WR-CALDESC:Events for Corridas de Rua - RS
BEGIN:VEVENT
DTSTART;TZID=UTC+0:20171007T140000
DTEND;TZID=UTC+0:20171007T140000
DTSTAMP:20260420T065653
CREATED:20170711T150548Z
LAST-MODIFIED:20170908T141908Z
UID:2423-1507384800-1507384800@corridasderuars.com.br
SUMMARY:Adventure Race - Corrida de Obstáculos
DESCRIPTION:
URL:https://corridasderuars.com.br/evento/3a-adventure-race-corrida-de-obstaculos/
CATEGORIES:9km
ATTACH;FMTTYPE=image/jpeg:https://corridasderuars.com.br/wp-content/uploads/2017/07/bg16-1.jpg
END:VEVENT
END:VCALENDAR