BEGIN:VCALENDAR
VERSION:2.0
PRODID:-//Corridas de Rua - RS - ECPv4.5.7//NONSGML v1.0//EN
CALSCALE:GREGORIAN
METHOD:PUBLISH
X-WR-CALNAME:Corridas de Rua - RS
X-ORIGINAL-URL:https://corridasderuars.com.br
X-WR-CALDESC:Events for Corridas de Rua - RS
BEGIN:VEVENT
DTSTART;TZID=UTC+0:20180501T090000
DTEND;TZID=UTC+0:20180501T090000
DTSTAMP:20260419T232413
CREATED:20180418T122553Z
LAST-MODIFIED:20180418T122553Z
UID:3788-1525165200-1525165200@corridasderuars.com.br
SUMMARY:37ª Rústica do Trabalhador - Antônio Rubatini Murussi
DESCRIPTION:
URL:https://corridasderuars.com.br/evento/37a-rustica-do-trabalhador-antonio-rubatini-murussi/
CATEGORIES:8.7km
ATTACH;FMTTYPE=image/jpeg:https://corridasderuars.com.br/wp-content/uploads/2017/12/bg57.jpg
END:VEVENT
END:VCALENDAR