BEGIN:VCALENDAR
VERSION:2.0
PRODID:-//Corridas de Rua - RS - ECPv4.5.7//NONSGML v1.0//EN
CALSCALE:GREGORIAN
METHOD:PUBLISH
X-WR-CALNAME:Corridas de Rua - RS
X-ORIGINAL-URL:https://corridasderuars.com.br
X-WR-CALDESC:Events for Corridas de Rua - RS
BEGIN:VEVENT
DTSTART;TZID=UTC+0:20211205T083000
DTEND;TZID=UTC+0:20211205T083000
DTSTAMP:20260421T085215
CREATED:20211025T163341Z
LAST-MODIFIED:20211025T163341Z
UID:7479-1638693000-1638693000@corridasderuars.com.br
SUMMARY:31ª Rústica de Natal de Lajeado
DESCRIPTION:
URL:https://corridasderuars.com.br/evento/31a-rustica-de-natal-de-lajeado/
CATEGORIES:10km,5km
ATTACH;FMTTYPE=image/jpeg:https://corridasderuars.com.br/wp-content/uploads/2019/08/bg201.jpg
END:VEVENT
END:VCALENDAR