BEGIN:VCALENDAR
VERSION:2.0
PRODID:-//Corridas de Rua - RS - ECPv4.5.7//NONSGML v1.0//EN
CALSCALE:GREGORIAN
METHOD:PUBLISH
X-WR-CALNAME:Corridas de Rua - RS
X-ORIGINAL-URL:https://corridasderuars.com.br
X-WR-CALDESC:Events for Corridas de Rua - RS
BEGIN:VEVENT
DTSTART;TZID=UTC+0:20180501T063000
DTEND;TZID=UTC+0:20180501T063000
DTSTAMP:20260419T232413
CREATED:20180406T140311Z
LAST-MODIFIED:20180406T140311Z
UID:3743-1525156200-1525156200@corridasderuars.com.br
SUMMARY:30k - Desafio Longão Camaquã/Arambaré
DESCRIPTION:
URL:https://corridasderuars.com.br/evento/30k-desafio-longao-camaquaarambare/
CATEGORIES:10km,15km,30km,5km
ATTACH;FMTTYPE=image/jpeg:https://corridasderuars.com.br/wp-content/uploads/2017/07/bg18-1.jpg
END:VEVENT
END:VCALENDAR