BEGIN:VCALENDAR
VERSION:2.0
PRODID:-//Corridas de Rua - RS - ECPv4.5.7//NONSGML v1.0//EN
CALSCALE:GREGORIAN
METHOD:PUBLISH
X-WR-CALNAME:Corridas de Rua - RS
X-ORIGINAL-URL:https://corridasderuars.com.br
X-WR-CALDESC:Events for Corridas de Rua - RS
BEGIN:VEVENT
DTSTART;TZID=UTC+0:20210711T083000
DTEND;TZID=UTC+0:20210711T083000
DTSTAMP:20260421T083620
CREATED:20210607T113134Z
LAST-MODIFIED:20210607T113134Z
UID:7168-1625992200-1625992200@corridasderuars.com.br
SUMMARY:2º Trail Run Ivoti
DESCRIPTION:
URL:https://corridasderuars.com.br/evento/2o-trail-run-ivoti/
CATEGORIES:6km
ATTACH;FMTTYPE=image/jpeg:https://corridasderuars.com.br/wp-content/uploads/2019/08/bg204.jpg
END:VEVENT
END:VCALENDAR