BEGIN:VCALENDAR
VERSION:2.0
PRODID:-//Corridas de Rua - RS - ECPv4.5.7//NONSGML v1.0//EN
CALSCALE:GREGORIAN
METHOD:PUBLISH
X-WR-CALNAME:Corridas de Rua - RS
X-ORIGINAL-URL:https://corridasderuars.com.br
X-WR-CALDESC:Events for Corridas de Rua - RS
BEGIN:VEVENT
DTSTART;TZID=UTC+0:20190615T160000
DTEND;TZID=UTC+0:20190615T160000
DTSTAMP:20260420T085326
CREATED:20190523T192935Z
LAST-MODIFIED:20190523T192935Z
UID:5229-1560614400-1560614400@corridasderuars.com.br
SUMMARY:2º Rústica INB - Imbé
DESCRIPTION:
URL:https://corridasderuars.com.br/evento/2o-rustica-inb-imbe/
CATEGORIES:4.5km
ATTACH;FMTTYPE=image/jpeg:https://corridasderuars.com.br/wp-content/uploads/2018/10/bg78.jpg
END:VEVENT
END:VCALENDAR