BEGIN:VCALENDAR
VERSION:2.0
PRODID:-//Corridas de Rua - RS - ECPv4.5.7//NONSGML v1.0//EN
CALSCALE:GREGORIAN
METHOD:PUBLISH
X-WR-CALNAME:Corridas de Rua - RS
X-ORIGINAL-URL:https://corridasderuars.com.br
X-WR-CALDESC:Events for Corridas de Rua - RS
BEGIN:VEVENT
DTSTART;TZID=UTC+0:20170909T090000
DTEND;TZID=UTC+0:20170909T090000
DTSTAMP:20260420T095018
CREATED:20170814T125936Z
LAST-MODIFIED:20170829T182536Z
UID:2650-1504947600-1504947600@corridasderuars.com.br
SUMMARY:2º RÚSTICA ACADEMIA PERSONAL CARE
DESCRIPTION:
URL:https://corridasderuars.com.br/evento/2o-rustica-academia-personal-care/
CATEGORIES:4km,8km
ATTACH;FMTTYPE=image/jpeg:https://corridasderuars.com.br/wp-content/uploads/2017/07/bg10-1.jpg
END:VEVENT
END:VCALENDAR