BEGIN:VCALENDAR
VERSION:2.0
PRODID:-//Corridas de Rua - RS - ECPv4.5.7//NONSGML v1.0//EN
CALSCALE:GREGORIAN
METHOD:PUBLISH
X-WR-CALNAME:Corridas de Rua - RS
X-ORIGINAL-URL:https://corridasderuars.com.br
X-WR-CALDESC:Events for Corridas de Rua - RS
BEGIN:VEVENT
DTSTART;TZID=UTC+0:20171028T150000
DTEND;TZID=UTC+0:20171028T150000
DTSTAMP:20260420T051327
CREATED:20170801T201127Z
LAST-MODIFIED:20170801T201127Z
UID:2613-1509202800-1509202800@corridasderuars.com.br
SUMMARY:2º RUNNING CAMP
DESCRIPTION:
URL:https://corridasderuars.com.br/evento/2o-running-camp/
CATEGORIES:30km,50km
ATTACH;FMTTYPE=image/jpeg:https://corridasderuars.com.br/wp-content/uploads/2017/07/bg19-1.jpg
END:VEVENT
END:VCALENDAR