BEGIN:VCALENDAR
VERSION:2.0
PRODID:-//Corridas de Rua - RS - ECPv4.5.7//NONSGML v1.0//EN
CALSCALE:GREGORIAN
METHOD:PUBLISH
X-WR-CALNAME:Corridas de Rua - RS
X-ORIGINAL-URL:https://corridasderuars.com.br
X-WR-CALDESC:Events for Corridas de Rua - RS
BEGIN:VEVENT
DTSTART;TZID=UTC+0:20171217T163000
DTEND;TZID=UTC+0:20171217T163000
DTSTAMP:20260420T054049
CREATED:20170713T194945Z
LAST-MODIFIED:20171123T155813Z
UID:2504-1513528200-1513528200@corridasderuars.com.br
SUMMARY:2º EXPOJUC RUNNERS 2017
DESCRIPTION:
URL:https://corridasderuars.com.br/evento/2o-expojuc-runners-2017/
ATTACH;FMTTYPE=image/jpeg:https://corridasderuars.com.br/wp-content/uploads/2017/07/bg25-1.jpg
END:VEVENT
END:VCALENDAR