BEGIN:VCALENDAR
VERSION:2.0
PRODID:-//Corridas de Rua - RS - ECPv4.5.7//NONSGML v1.0//EN
CALSCALE:GREGORIAN
METHOD:PUBLISH
X-WR-CALNAME:Corridas de Rua - RS
X-ORIGINAL-URL:https://corridasderuars.com.br
X-WR-CALDESC:Events for Corridas de Rua - RS
BEGIN:VEVENT
DTSTART;TZID=UTC+0:20180602T150000
DTEND;TZID=UTC+0:20180602T150000
DTSTAMP:20260419T214128
CREATED:20180523T130218Z
LAST-MODIFIED:20180523T130218Z
UID:3902-1527951600-1527951600@corridasderuars.com.br
SUMMARY:2º Cross Country Lindolfo Collor
DESCRIPTION:
URL:https://corridasderuars.com.br/evento/2o-cross-country-lindolfo-collor/
CATEGORIES:5km
ATTACH;FMTTYPE=image/jpeg:https://corridasderuars.com.br/wp-content/uploads/2017/12/bg49.jpg
END:VEVENT
END:VCALENDAR