BEGIN:VCALENDAR
VERSION:2.0
PRODID:-//Corridas de Rua - RS - ECPv4.5.7//NONSGML v1.0//EN
CALSCALE:GREGORIAN
METHOD:PUBLISH
X-WR-CALNAME:Corridas de Rua - RS
X-ORIGINAL-URL:https://corridasderuars.com.br
X-WR-CALDESC:Events for Corridas de Rua - RS
BEGIN:VEVENT
DTSTART;TZID=UTC+0:20171217T090000
DTEND;TZID=UTC+0:20171217T090000
DTSTAMP:20260420T040819
CREATED:20171116T111857Z
LAST-MODIFIED:20171204T180618Z
UID:3190-1513501200-1513501200@corridasderuars.com.br
SUMMARY:2º Corrida & Caminhada pela Qualidade de Vida
DESCRIPTION:
URL:https://corridasderuars.com.br/evento/2o-corrida-caminhada-pela-qualidade-de-vida/
CATEGORIES:1km,3km,5km
ATTACH;FMTTYPE=image/jpeg:https://corridasderuars.com.br/wp-content/uploads/2017/12/bg42.jpg
END:VEVENT
END:VCALENDAR