BEGIN:VCALENDAR
VERSION:2.0
PRODID:-//Corridas de Rua - RS - ECPv4.5.7//NONSGML v1.0//EN
CALSCALE:GREGORIAN
METHOD:PUBLISH
X-WR-CALNAME:Corridas de Rua - RS
X-ORIGINAL-URL:https://corridasderuars.com.br
X-WR-CALDESC:Events for Corridas de Rua - RS
BEGIN:VEVENT
DTSTART;TZID=UTC+0:20180512T150000
DTEND;TZID=UTC+0:20180512T150000
DTSTAMP:20260419T231410
CREATED:20180412T154558Z
LAST-MODIFIED:20180412T154558Z
UID:3771-1526137200-1526137200@corridasderuars.com.br
SUMMARY:2ª Rústica Polivalente
DESCRIPTION:
URL:https://corridasderuars.com.br/evento/2a-rustica-polivalente/
CATEGORIES:2km,5km
ATTACH;FMTTYPE=image/jpeg:https://corridasderuars.com.br/wp-content/uploads/2017/07/bg18-1.jpg
END:VEVENT
END:VCALENDAR